BEGIN:VCALENDAR
VERSION:2.0
PRODID:-//eventon.com NONSGML v1.0//EN
CALSCALE:GREGORIAN
METHOD:PUBLISH
BEGIN:VEVENT
UID:69e73f68e5730
DTSTAMP:20260421T091208Z
DTSTART:20181216T100000Z
DTEND:20181216T140000Z
LOCATION:Sala por determinar. Madrid.
SUMMARY:Respiración Holoscópica
DESCRIPTION:&nbsp; Taller vivencial profundamente transformador para la eli
 minación de conflictos psico-emocionales y de indagación de patrones inco
 nscientes.  La Respiración Holoscópica es una poderosísima y ancestral
  técnica de auto conocimiento y sanación integral: fisica\,  mental\,  em
 ocional y espiritual. Por medio del trance o catarsis facilita la trascende
 ncia de la mente permitiendo identificar[..]\nhttps://descubretuverdad.es/a
 genda/respiracion-holoscopica-2/
URL:https://descubretuverdad.es/agenda/respiracion-holoscopica-2/
END:VEVENT
END:VCALENDAR